Package: TSAR Version: 1.4.0 Command: /Library/Frameworks/R.framework/Resources/bin/R CMD check --install=check:TSAR.install-out.txt --library=/Library/Frameworks/R.framework/Resources/library --no-vignettes --timings TSAR_1.4.0.tar.gz StartedAt: 2025-02-04 11:38:01 -0500 (Tue, 04 Feb 2025) EndedAt: 2025-02-04 11:42:49 -0500 (Tue, 04 Feb 2025) EllapsedTime: 288.3 seconds RetCode: 0 Status: OK CheckDir: TSAR.Rcheck Warnings: 0