Package: TSAR Version: 1.4.0 Command: /home/biocbuild/bbs-3.20-bioc/R/bin/R CMD check --install=check:TSAR.install-out.txt --library=/home/biocbuild/bbs-3.20-bioc/R/site-library --timings TSAR_1.4.0.tar.gz StartedAt: 2025-02-04 03:24:42 -0500 (Tue, 04 Feb 2025) EndedAt: 2025-02-04 03:28:47 -0500 (Tue, 04 Feb 2025) EllapsedTime: 245.3 seconds RetCode: 0 Status: OK CheckDir: TSAR.Rcheck Warnings: 0