Package: TSAR
Version: 1.3.0
Command: rm -rf TSAR.buildbin-libdir && mkdir TSAR.buildbin-libdir && F:\biocbuild\bbs-3.20-bioc\R\bin\R.exe CMD INSTALL --build --library=TSAR.buildbin-libdir TSAR_1.3.0.tar.gz
StartedAt: 2024-06-10 15:26:51 -0400 (Mon, 10 Jun 2024)
EndedAt: 2024-06-10 15:28:37 -0400 (Mon, 10 Jun 2024)
EllapsedTime: 106.2 seconds
RetCode: 0
Status: OK
PackageFile: TSAR_1.3.0.zip
PackageFileSize: 3.486 <A href="http://en.wikipedia.org/wiki/MiB" target="_blank">MiB</A>