Package: TSAR
Version: 1.4.0
Command: rm -rf TSAR.buildbin-libdir && mkdir TSAR.buildbin-libdir && F:\biocbuild\bbs-3.20-bioc\R\bin\R.exe CMD INSTALL --build --library=TSAR.buildbin-libdir TSAR_1.4.0.tar.gz
StartedAt: 2025-02-18 09:19:17 -0500 (Tue, 18 Feb 2025)
EndedAt: 2025-02-18 09:19:56 -0500 (Tue, 18 Feb 2025)
EllapsedTime: 38.7 seconds
RetCode: 0
Status: OK
PackageFile: TSAR_1.4.0.zip
PackageFileSize: 3.486 <A href="http://en.wikipedia.org/wiki/MiB" target="_blank">MiB</A>