Package: TSCAN Version: 1.44.0 Command: /Library/Frameworks/R.framework/Resources/bin/R CMD check --install=check:TSCAN.install-out.txt --library=/Library/Frameworks/R.framework/Resources/library --no-vignettes --timings TSCAN_1.44.0.tar.gz StartedAt: 2025-02-05 13:36:07 -0500 (Wed, 05 Feb 2025) EndedAt: 2025-02-05 13:40:27 -0500 (Wed, 05 Feb 2025) EllapsedTime: 259.4 seconds RetCode: 0 Status: OK CheckDir: TSCAN.Rcheck Warnings: 0