Package: TSCAN Version: 1.44.0 Command: /Library/Frameworks/R.framework/Resources/bin/R CMD build --keep-empty-dirs --no-resave-data TSCAN StartedAt: 2025-02-03 23:03:10 -0500 (Mon, 03 Feb 2025) EndedAt: 2025-02-03 23:04:59 -0500 (Mon, 03 Feb 2025) EllapsedTime: 108.3 seconds RetCode: 0 Status: OK PackageFile: TSCAN_1.44.0.tar.gz PackageFileSize: 2.678 MiB