Package: TSCAN Version: 1.44.0 Command: /Library/Frameworks/R.framework/Resources/bin/R CMD check --install=check:TSCAN.install-out.txt --library=/Library/Frameworks/R.framework/Resources/library --no-vignettes --timings TSCAN_1.44.0.tar.gz StartedAt: 2025-02-04 11:38:08 -0500 (Tue, 04 Feb 2025) EndedAt: 2025-02-04 11:45:49 -0500 (Tue, 04 Feb 2025) EllapsedTime: 460.7 seconds RetCode: 0 Status: OK CheckDir: TSCAN.Rcheck Warnings: 0