Package: TSCAN Version: 1.44.0 Command: /home/biocbuild/R/R/bin/R CMD build --keep-empty-dirs --no-resave-data TSCAN StartedAt: 2025-02-04 03:41:35 -0000 (Tue, 04 Feb 2025) EndedAt: 2025-02-04 03:42:41 -0000 (Tue, 04 Feb 2025) EllapsedTime: 66.1 seconds RetCode: 0 Status: OK PackageFile: TSCAN_1.44.0.tar.gz PackageFileSize: 2.674 MiB