Package: TTMap Version: 1.28.0 Command: /Library/Frameworks/R.framework/Resources/bin/R CMD check --install=check:TTMap.install-out.txt --library=/Library/Frameworks/R.framework/Resources/library --no-vignettes --timings TTMap_1.28.0.tar.gz StartedAt: 2025-02-05 13:37:32 -0500 (Wed, 05 Feb 2025) EndedAt: 2025-02-05 13:41:28 -0500 (Wed, 05 Feb 2025) EllapsedTime: 235.9 seconds RetCode: 0 Status: OK CheckDir: TTMap.Rcheck Warnings: 0