Package: TTMap Version: 1.28.0 Command: /home/biocbuild/bbs-3.20-bioc/R/bin/R CMD build --keep-empty-dirs --no-resave-data --md5 TTMap StartedAt: 2025-02-03 19:43:00 -0500 (Mon, 03 Feb 2025) EndedAt: 2025-02-03 19:43:44 -0500 (Mon, 03 Feb 2025) EllapsedTime: 44.0 seconds RetCode: 0 Status: OK PackageFile: TTMap_1.28.0.tar.gz PackageFileSize: 1.611 MiB