Package: TTMap Version: 1.28.0 Command: /home/biocbuild/bbs-3.20-bioc/R/bin/R CMD INSTALL TTMap StartedAt: 2025-02-03 15:40:47 -0500 (Mon, 03 Feb 2025) EndedAt: 2025-02-03 15:41:11 -0500 (Mon, 03 Feb 2025) EllapsedTime: 23.4 seconds RetCode: 0 Status: OK