Package: TTMap Version: 1.28.0 Command: /home/biocbuild/R/R/bin/R CMD INSTALL TTMap StartedAt: 2025-02-03 20:55:04 -0000 (Mon, 03 Feb 2025) EndedAt: 2025-02-03 20:55:30 -0000 (Mon, 03 Feb 2025) EllapsedTime: 26.9 seconds RetCode: 0 Status: OK