Package: TVTB
Version: 1.32.0
Command: /Library/Frameworks/R.framework/Resources/bin/R CMD check --install=check:TVTB.install-out.txt --library=/Library/Frameworks/R.framework/Resources/library --no-vignettes --timings TVTB_1.32.0.tar.gz
StartedAt: 2025-02-15 13:06:19 -0500 (Sat, 15 Feb 2025)
EndedAt: 2025-02-15 13:14:13 -0500 (Sat, 15 Feb 2025)
EllapsedTime: 474.7 seconds
RetCode: 0
Status: OK
CheckDir: TVTB.Rcheck
Warnings: 0