Package: TVTB Version: 1.32.0 Command: /Library/Frameworks/R.framework/Resources/bin/R CMD build --keep-empty-dirs --no-resave-data TVTB StartedAt: 2025-02-03 23:03:42 -0500 (Mon, 03 Feb 2025) EndedAt: 2025-02-03 23:07:39 -0500 (Mon, 03 Feb 2025) EllapsedTime: 237.1 seconds RetCode: 0 Status: OK PackageFile: TVTB_1.32.0.tar.gz PackageFileSize: 1.449 MiB