Package: TargetScore Version: 1.44.0 Command: rm -rf TargetScore.buildbin-libdir && mkdir TargetScore.buildbin-libdir && F:\biocbuild\bbs-3.20-bioc\R\bin\R.exe CMD INSTALL --build --library=TargetScore.buildbin-libdir TargetScore_1.44.0.tar.gz StartedAt: 2025-02-18 09:15:19 -0500 (Tue, 18 Feb 2025) EndedAt: 2025-02-18 09:15:38 -0500 (Tue, 18 Feb 2025) EllapsedTime: 19.0 seconds RetCode: 0 Status: OK PackageFile: TargetScore_1.44.0.zip PackageFileSize: 1.262 <A href="http://en.wikipedia.org/wiki/MiB" target="_blank">MiB</A>