Package: TargetScore Version: 1.44.0 Command: /home/biocbuild/R/R/bin/R CMD check --install=check:TargetScore.install-out.txt --library=/home/biocbuild/R/R/site-library --no-vignettes --timings TargetScore_1.44.0.tar.gz StartedAt: 2025-02-04 11:37:27 -0000 (Tue, 04 Feb 2025) EndedAt: 2025-02-04 11:38:08 -0000 (Tue, 04 Feb 2025) EllapsedTime: 40.0 seconds RetCode: 0 Status: OK CheckDir: TargetScore.Rcheck Warnings: 0