Package: TargetSearch Version: 2.8.0 Command: /Library/Frameworks/R.framework/Resources/bin/R CMD INSTALL TargetSearch StartedAt: 2025-02-03 15:17:48 -0500 (Mon, 03 Feb 2025) EndedAt: 2025-02-03 15:18:18 -0500 (Mon, 03 Feb 2025) EllapsedTime: 29.9 seconds RetCode: 0 Status: OK