Package: TargetSearch
Version: 2.7.0
Command: chmod a+r TargetSearch -R && F:\biocbuild\bbs-3.20-bioc\R\bin\R.exe CMD build --keep-empty-dirs --no-resave-data TargetSearch
StartedAt: 2024-06-09 22:48:32 -0400 (Sun, 09 Jun 2024)
EndedAt: 2024-06-09 22:49:50 -0400 (Sun, 09 Jun 2024)
EllapsedTime: 77.5 seconds
RetCode: 1
Status: ERROR
PackageFile: None
PackageFileSize: NA