Package: TargetSearch Version: 2.8.0 Command: F:\biocbuild\bbs-3.20-bioc\R\bin\R.exe CMD INSTALL TargetSearch StartedAt: 2025-02-03 15:40:21 -0500 (Mon, 03 Feb 2025) EndedAt: 2025-02-03 15:43:16 -0500 (Mon, 03 Feb 2025) EllapsedTime: 175.2 seconds RetCode: 0 Status: OK