Package: TileDBArray Version: 1.16.0 Command: /home/biocbuild/bbs-3.20-bioc/R/bin/R CMD INSTALL TileDBArray StartedAt: 2025-02-03 15:22:59 -0500 (Mon, 03 Feb 2025) EndedAt: 2025-02-03 15:23:18 -0500 (Mon, 03 Feb 2025) EllapsedTime: 18.5 seconds RetCode: 0 Status: OK