Package: TissueEnrich Version: 1.26.0 Command: rm -rf TissueEnrich.buildbin-libdir && mkdir TissueEnrich.buildbin-libdir && /Users/biocbuild/BBS/utils/build-universal.sh TissueEnrich_1.26.0.tar.gz /Library/Frameworks/R.framework/Resources/bin/R TissueEnrich.buildbin-libdir StartedAt: 2025-01-31 13:51:40 -0500 (Fri, 31 Jan 2025) EndedAt: 2025-01-31 13:52:44 -0500 (Fri, 31 Jan 2025) EllapsedTime: 63.7 seconds RetCode: 0 Status: OK PackageFile: TissueEnrich_1.26.0.tgz PackageFileSize: 3.628 MiB