Package: TissueEnrich
Version: 1.26.0
Command: /Library/Frameworks/R.framework/Resources/bin/R CMD INSTALL TissueEnrich
StartedAt: 2025-02-17 15:31:21 -0500 (Mon, 17 Feb 2025)
EndedAt: 2025-02-17 15:32:28 -0500 (Mon, 17 Feb 2025)
EllapsedTime: 66.8 seconds
RetCode: 0
Status: OK