Package: TissueEnrich Version: 1.26.0 Command: F:\biocbuild\bbs-3.20-bioc\R\bin\R.exe CMD INSTALL TissueEnrich StartedAt: 2025-02-03 16:27:44 -0500 (Mon, 03 Feb 2025) EndedAt: 2025-02-03 16:28:22 -0500 (Mon, 03 Feb 2025) EllapsedTime: 37.6 seconds RetCode: 0 Status: OK