Package: TissueEnrich
Version: 1.26.0
Command: /home/biocbuild/R/R/bin/R CMD build --keep-empty-dirs --no-resave-data TissueEnrich
StartedAt: 2025-02-18 03:20:56 -0000 (Tue, 18 Feb 2025)
EndedAt: 2025-02-18 03:21:54 -0000 (Tue, 18 Feb 2025)
EllapsedTime: 58.1 seconds
RetCode: 0
Status: OK
PackageFile: TissueEnrich_1.26.0.tar.gz
PackageFileSize: 3.383 <A href="http://en.wikipedia.org/wiki/MiB" target="_blank">MiB</A>