Package: TitanCNA Version: 1.44.0 Command: /Library/Frameworks/R.framework/Resources/bin/R CMD build --keep-empty-dirs --no-resave-data TitanCNA StartedAt: 2025-02-04 09:47:14 -0500 (Tue, 04 Feb 2025) EndedAt: 2025-02-04 09:49:21 -0500 (Tue, 04 Feb 2025) EllapsedTime: 126.2 seconds RetCode: 0 Status: OK PackageFile: TitanCNA_1.44.0.tar.gz PackageFileSize: 3.924 MiB