Package: TitanCNA Version: 1.44.0 Command: /Library/Frameworks/R.framework/Resources/bin/R CMD INSTALL TitanCNA StartedAt: 2025-02-03 15:49:30 -0500 (Mon, 03 Feb 2025) EndedAt: 2025-02-03 15:51:06 -0500 (Mon, 03 Feb 2025) EllapsedTime: 96.2 seconds RetCode: 0 Status: OK