Package: TitanCNA Version: 1.44.0 Command: /home/biocbuild/bbs-3.20-bioc/R/bin/R CMD check --install=check:TitanCNA.install-out.txt --library=/home/biocbuild/bbs-3.20-bioc/R/site-library --timings TitanCNA_1.44.0.tar.gz StartedAt: 2025-02-04 03:13:50 -0500 (Tue, 04 Feb 2025) EndedAt: 2025-02-04 03:20:27 -0500 (Tue, 04 Feb 2025) EllapsedTime: 396.4 seconds RetCode: 0 Status: WARNINGS CheckDir: TitanCNA.Rcheck Warnings: 2