##############################################################################
##############################################################################
###
### Running command:
###
###   rm -rf TitanCNA.buildbin-libdir && mkdir TitanCNA.buildbin-libdir && C:\Users\biocbuild\bbs-3.20-bioc\R\bin\R.exe CMD INSTALL --build --library=TitanCNA.buildbin-libdir TitanCNA_1.43.0.tar.gz
###
##############################################################################
##############################################################################


* installing *source* package 'TitanCNA' ...
** using staged installation
** libs
using C compiler: 'gcc.exe (GCC) 13.2.0'
gcc  -I"C:/Users/biocbuild/bbs-3.20-bioc/R/include" -DNDEBUG     -I"C:/rtools44/x86_64-w64-mingw32.static.posix/include"     -O2 -Wall  -mfpmath=sse -msse2 -mstackrealign  -c fwd_backC_clonalCN.c -o fwd_backC_clonalCN.o
gcc  -I"C:/Users/biocbuild/bbs-3.20-bioc/R/include" -DNDEBUG     -I"C:/rtools44/x86_64-w64-mingw32.static.posix/include"     -O2 -Wall  -mfpmath=sse -msse2 -mstackrealign  -c getPositionOverlapC.c -o getPositionOverlapC.o
gcc  -I"C:/Users/biocbuild/bbs-3.20-bioc/R/include" -DNDEBUG     -I"C:/rtools44/x86_64-w64-mingw32.static.posix/include"     -O2 -Wall  -mfpmath=sse -msse2 -mstackrealign  -c register.c -o register.o
gcc  -I"C:/Users/biocbuild/bbs-3.20-bioc/R/include" -DNDEBUG     -I"C:/rtools44/x86_64-w64-mingw32.static.posix/include"     -O2 -Wall  -mfpmath=sse -msse2 -mstackrealign  -c viterbiC_clonalCN.c -o viterbiC_clonalCN.o
gcc -shared -s -static-libgcc -o TitanCNA.dll tmp.def fwd_backC_clonalCN.o getPositionOverlapC.o register.o viterbiC_clonalCN.o -LC:/rtools44/x86_64-w64-mingw32.static.posix/lib/x64 -LC:/rtools44/x86_64-w64-mingw32.static.posix/lib -LC:/Users/biocbuild/bbs-3.20-bioc/R/bin/x64 -lR
installing to C:/Users/biocbuild/bbs-3.20-bioc/meat/TitanCNA.buildbin-libdir/00LOCK-TitanCNA/00new/TitanCNA/libs/x64
** R
** data
** inst
** byte-compile and prepare package for lazy loading
Warning: replacing previous import 'GenomicRanges::shift' by 'data.table::shift' when loading 'TitanCNA'
Warning: replacing previous import 'data.table::first' by 'dplyr::first' when loading 'TitanCNA'
Warning: replacing previous import 'IRanges::desc' by 'dplyr::desc' when loading 'TitanCNA'
Warning: replacing previous import 'IRanges::slice' by 'dplyr::slice' when loading 'TitanCNA'
Warning: replacing previous import 'GenomeInfoDb::intersect' by 'dplyr::intersect' when loading 'TitanCNA'
Warning: replacing previous import 'data.table::last' by 'dplyr::last' when loading 'TitanCNA'
Warning: replacing previous import 'GenomicRanges::union' by 'dplyr::union' when loading 'TitanCNA'
Warning: replacing previous import 'data.table::between' by 'dplyr::between' when loading 'TitanCNA'
Warning: replacing previous import 'BiocGenerics::combine' by 'dplyr::combine' when loading 'TitanCNA'
Warning: replacing previous import 'IRanges::collapse' by 'dplyr::collapse' when loading 'TitanCNA'
Warning: replacing previous import 'GenomicRanges::setdiff' by 'dplyr::setdiff' when loading 'TitanCNA'
Warning: replacing previous import 'dplyr::select' by 'VariantAnnotation::select' when loading 'TitanCNA'
** help
*** installing help indices
** building package indices
** installing vignettes
** testing if installed package can be loaded from temporary location
Warning: replacing previous import 'GenomicRanges::shift' by 'data.table::shift' when loading 'TitanCNA'
Warning: replacing previous import 'data.table::first' by 'dplyr::first' when loading 'TitanCNA'
Warning: replacing previous import 'IRanges::desc' by 'dplyr::desc' when loading 'TitanCNA'
Warning: replacing previous import 'IRanges::slice' by 'dplyr::slice' when loading 'TitanCNA'
Warning: replacing previous import 'GenomeInfoDb::intersect' by 'dplyr::intersect' when loading 'TitanCNA'
Warning: replacing previous import 'data.table::last' by 'dplyr::last' when loading 'TitanCNA'
Warning: replacing previous import 'GenomicRanges::union' by 'dplyr::union' when loading 'TitanCNA'
Warning: replacing previous import 'data.table::between' by 'dplyr::between' when loading 'TitanCNA'
Warning: replacing previous import 'BiocGenerics::combine' by 'dplyr::combine' when loading 'TitanCNA'
Warning: replacing previous import 'IRanges::collapse' by 'dplyr::collapse' when loading 'TitanCNA'
Warning: replacing previous import 'GenomicRanges::setdiff' by 'dplyr::setdiff' when loading 'TitanCNA'
Warning: replacing previous import 'dplyr::select' by 'VariantAnnotation::select' when loading 'TitanCNA'
** testing if installed package can be loaded from final location
Warning: replacing previous import 'GenomicRanges::shift' by 'data.table::shift' when loading 'TitanCNA'
Warning: replacing previous import 'data.table::first' by 'dplyr::first' when loading 'TitanCNA'
Warning: replacing previous import 'IRanges::desc' by 'dplyr::desc' when loading 'TitanCNA'
Warning: replacing previous import 'IRanges::slice' by 'dplyr::slice' when loading 'TitanCNA'
Warning: replacing previous import 'GenomeInfoDb::intersect' by 'dplyr::intersect' when loading 'TitanCNA'
Warning: replacing previous import 'data.table::last' by 'dplyr::last' when loading 'TitanCNA'
Warning: replacing previous import 'GenomicRanges::union' by 'dplyr::union' when loading 'TitanCNA'
Warning: replacing previous import 'data.table::between' by 'dplyr::between' when loading 'TitanCNA'
Warning: replacing previous import 'BiocGenerics::combine' by 'dplyr::combine' when loading 'TitanCNA'
Warning: replacing previous import 'IRanges::collapse' by 'dplyr::collapse' when loading 'TitanCNA'
Warning: replacing previous import 'GenomicRanges::setdiff' by 'dplyr::setdiff' when loading 'TitanCNA'
Warning: replacing previous import 'dplyr::select' by 'VariantAnnotation::select' when loading 'TitanCNA'
** testing if installed package keeps a record of temporary installation path
* MD5 sums
packaged installation of 'TitanCNA' as TitanCNA_1.43.0.zip
* DONE (TitanCNA)