Package: TitanCNA Version: 1.44.0 Command: chmod a+r TitanCNA -R && F:\biocbuild\bbs-3.20-bioc\R\bin\R.exe CMD build --keep-empty-dirs --no-resave-data TitanCNA StartedAt: 2025-02-03 22:37:19 -0500 (Mon, 03 Feb 2025) EndedAt: 2025-02-03 22:39:19 -0500 (Mon, 03 Feb 2025) EllapsedTime: 120.2 seconds RetCode: 0 Status: OK PackageFile: TitanCNA_1.44.0.tar.gz PackageFileSize: 3.604 MiB