Package: TrajectoryGeometry Version: 1.14.0 Command: /Library/Frameworks/R.framework/Resources/bin/R CMD build --keep-empty-dirs --no-resave-data TrajectoryGeometry StartedAt: 2024-11-08 19:27:43 -0500 (Fri, 08 Nov 2024) EndedAt: 2024-11-08 19:29:13 -0500 (Fri, 08 Nov 2024) EllapsedTime: 90.0 seconds RetCode: 0 Status: OK PackageFile: TrajectoryGeometry_1.14.0.tar.gz PackageFileSize: 1.894 MiB