Package: TrajectoryGeometry Version: 1.14.0 Command: /Library/Frameworks/R.framework/Resources/bin/R CMD build --keep-empty-dirs --no-resave-data TrajectoryGeometry StartedAt: 2025-02-03 22:58:37 -0500 (Mon, 03 Feb 2025) EndedAt: 2025-02-03 23:15:04 -0500 (Mon, 03 Feb 2025) EllapsedTime: 987.0 seconds RetCode: 0 Status: OK PackageFile: TrajectoryGeometry_1.14.0.tar.gz PackageFileSize: 1.894 MiB