Package: TrajectoryGeometry Version: 1.14.0 Command: /Library/Frameworks/R.framework/Resources/bin/R CMD check --install=check:TrajectoryGeometry.install-out.txt --library=/Library/Frameworks/R.framework/Resources/library --no-vignettes --timings TrajectoryGeometry_1.14.0.tar.gz StartedAt: 2025-02-04 11:26:10 -0500 (Tue, 04 Feb 2025) EndedAt: 2025-02-04 11:29:01 -0500 (Tue, 04 Feb 2025) EllapsedTime: 170.8 seconds RetCode: 0 Status: OK CheckDir: TrajectoryGeometry.Rcheck Warnings: 0