Package: TrajectoryGeometry Version: 1.14.0 Command: /home/biocbuild/bbs-3.20-bioc/R/bin/R CMD build --keep-empty-dirs --no-resave-data --md5 TrajectoryGeometry StartedAt: 2025-02-03 19:40:37 -0500 (Mon, 03 Feb 2025) EndedAt: 2025-02-03 19:44:51 -0500 (Mon, 03 Feb 2025) EllapsedTime: 253.3 seconds RetCode: 0 Status: OK PackageFile: TrajectoryGeometry_1.14.0.tar.gz PackageFileSize: 1.894 MiB