Package: TrajectoryUtils
Version: 1.14.0
Command: /Library/Frameworks/R.framework/Resources/bin/R CMD build --keep-empty-dirs --no-resave-data TrajectoryUtils
StartedAt: 2024-11-08 19:27:47 -0500 (Fri, 08 Nov 2024)
EndedAt: 2024-11-08 19:28:02 -0500 (Fri, 08 Nov 2024)
EllapsedTime: 14.2 seconds
RetCode: 0
Status: OK
PackageFile: TrajectoryUtils_1.14.0.tar.gz
PackageFileSize: 340.7 <A href="http://en.wikipedia.org/wiki/KiB" target="_blank">KiB</A>