Package: TrajectoryUtils Version: 1.14.0 Command: rm -rf TrajectoryUtils.buildbin-libdir && mkdir TrajectoryUtils.buildbin-libdir && /Users/biocbuild/BBS/utils/build-universal.sh TrajectoryUtils_1.14.0.tar.gz /Library/Frameworks/R.framework/Resources/bin/R TrajectoryUtils.buildbin-libdir StartedAt: 2025-02-18 13:18:10 -0500 (Tue, 18 Feb 2025) EndedAt: 2025-02-18 13:19:32 -0500 (Tue, 18 Feb 2025) EllapsedTime: 81.9 seconds RetCode: 0 Status: OK PackageFile: TrajectoryUtils_1.14.0.tgz PackageFileSize: 530.4 <A href="http://en.wikipedia.org/wiki/KiB" target="_blank">KiB</A>