Package: TrajectoryUtils Version: 1.14.0 Command: /Library/Frameworks/R.framework/Resources/bin/R CMD build --keep-empty-dirs --no-resave-data TrajectoryUtils StartedAt: 2025-02-03 22:59:13 -0500 (Mon, 03 Feb 2025) EndedAt: 2025-02-03 23:00:29 -0500 (Mon, 03 Feb 2025) EllapsedTime: 76.2 seconds RetCode: 0 Status: OK PackageFile: TrajectoryUtils_1.14.0.tar.gz PackageFileSize: 340.9 KiB