Package: TrajectoryUtils Version: 1.14.0 Command: /home/biocbuild/bbs-3.20-bioc/R/bin/R CMD INSTALL TrajectoryUtils StartedAt: 2025-01-30 15:13:44 -0500 (Thu, 30 Jan 2025) EndedAt: 2025-01-30 15:14:06 -0500 (Thu, 30 Jan 2025) EllapsedTime: 21.8 seconds RetCode: 0 Status: OK