Package: TrajectoryUtils
Version: 1.13.0
Command: chmod a+r TrajectoryUtils -R && F:\biocbuild\bbs-3.20-bioc\R\bin\R.exe CMD build --keep-empty-dirs --no-resave-data TrajectoryUtils
StartedAt: 2024-06-09 22:55:40 -0400 (Sun, 09 Jun 2024)
EndedAt: 2024-06-09 22:56:56 -0400 (Sun, 09 Jun 2024)
EllapsedTime: 76.2 seconds
RetCode: 0
Status: OK
PackageFile: TrajectoryUtils_1.13.0.tar.gz
PackageFileSize: 322.3 <A href="http://en.wikipedia.org/wiki/KiB" target="_blank">KiB</A>