Package: TrajectoryUtils
Version: 1.13.0
Command: F:\biocbuild\bbs-3.20-bioc\R\bin\R.exe CMD INSTALL TrajectoryUtils
StartedAt: 2024-06-09 15:53:46 -0400 (Sun, 09 Jun 2024)
EndedAt: 2024-06-09 15:54:18 -0400 (Sun, 09 Jun 2024)
EllapsedTime: 31.8 seconds
RetCode: 0
Status: OK