Package: TrajectoryUtils Version: 1.14.0 Command: /home/biocbuild/bbs-3.20-bioc/R/bin/R CMD check --install=check:TrajectoryUtils.install-out.txt --library=/home/biocbuild/bbs-3.20-bioc/R/site-library --timings TrajectoryUtils_1.14.0.tar.gz StartedAt: 2024-11-20 10:53:01 -0500 (Wed, 20 Nov 2024) EndedAt: 2024-11-20 10:55:30 -0500 (Wed, 20 Nov 2024) EllapsedTime: 149.1 seconds RetCode: 0 Status: OK CheckDir: TrajectoryUtils.Rcheck Warnings: 0