Package: TransView Version: 1.50.1 Command: rm -rf TransView.buildbin-libdir && mkdir TransView.buildbin-libdir && /Users/biocbuild/BBS/utils/build-universal.sh TransView_1.50.1.tar.gz /Library/Frameworks/R.framework/Resources/bin/R TransView.buildbin-libdir StartedAt: 2025-02-05 18:10:10 -0500 (Wed, 05 Feb 2025) EndedAt: 2025-02-05 18:10:33 -0500 (Wed, 05 Feb 2025) EllapsedTime: 23.1 seconds RetCode: 0 Status: OK PackageFile: TransView_1.50.1.tgz PackageFileSize: 2.032 MiB