Package: TransView Version: 1.50.1 Command: /Library/Frameworks/R.framework/Resources/bin/R CMD build --keep-empty-dirs --no-resave-data TransView StartedAt: 2025-02-04 10:00:09 -0500 (Tue, 04 Feb 2025) EndedAt: 2025-02-04 10:00:50 -0500 (Tue, 04 Feb 2025) EllapsedTime: 41.0 seconds RetCode: 0 Status: OK PackageFile: TransView_1.50.1.tar.gz PackageFileSize: 1.82 MiB