Package: TransView Version: 1.50.1 Command: /home/biocbuild/bbs-3.20-bioc/R/bin/R CMD build --keep-empty-dirs --no-resave-data --md5 TransView StartedAt: 2025-02-03 19:41:32 -0500 (Mon, 03 Feb 2025) EndedAt: 2025-02-03 19:41:50 -0500 (Mon, 03 Feb 2025) EllapsedTime: 18.0 seconds RetCode: 1 Status: ERROR PackageFile: None PackageFileSize: NA