Package: TransView Version: 1.50.1 Command: /home/biocbuild/R/R/bin/R CMD check --install=check:TransView.install-out.txt --library=/home/biocbuild/R/R/site-library --no-vignettes --timings TransView_1.50.1.tar.gz StartedAt: 2025-02-04 11:52:05 -0000 (Tue, 04 Feb 2025) EndedAt: 2025-02-04 11:54:03 -0000 (Tue, 04 Feb 2025) EllapsedTime: 118.3 seconds RetCode: 0 Status: OK CheckDir: TransView.Rcheck Warnings: 0