Package: TreeAndLeaf
Version: 1.18.0
Command: /Library/Frameworks/R.framework/Resources/bin/R CMD check --install=check:TreeAndLeaf.install-out.txt --library=/Library/Frameworks/R.framework/Resources/library --no-vignettes --timings TreeAndLeaf_1.18.0.tar.gz
StartedAt: 2024-11-20 03:35:06 -0500 (Wed, 20 Nov 2024)
EndedAt: 2024-11-20 03:39:39 -0500 (Wed, 20 Nov 2024)
EllapsedTime: 273.7 seconds
RetCode: 0
Status: OK
CheckDir: TreeAndLeaf.Rcheck
Warnings: 0