Package: TreeAndLeaf Version: 1.18.0 Command: /Library/Frameworks/R.framework/Resources/bin/R CMD build --keep-empty-dirs --no-resave-data TreeAndLeaf StartedAt: 2025-02-03 23:00:33 -0500 (Mon, 03 Feb 2025) EndedAt: 2025-02-03 23:00:58 -0500 (Mon, 03 Feb 2025) EllapsedTime: 25.5 seconds RetCode: 0 Status: OK PackageFile: TreeAndLeaf_1.18.0.tar.gz PackageFileSize: 5.623 MiB