Package: TreeSummarizedExperiment Version: 2.14.0 Command: /Library/Frameworks/R.framework/Resources/bin/R CMD build --keep-empty-dirs --no-resave-data TreeSummarizedExperiment StartedAt: 2025-02-04 10:02:38 -0500 (Tue, 04 Feb 2025) EndedAt: 2025-02-04 10:03:46 -0500 (Tue, 04 Feb 2025) EllapsedTime: 68.7 seconds RetCode: 0 Status: OK PackageFile: TreeSummarizedExperiment_2.14.0.tar.gz PackageFileSize: 1.104 MiB