Package: TreeSummarizedExperiment Version: 2.14.0 Command: /Library/Frameworks/R.framework/Resources/bin/R CMD build --keep-empty-dirs --no-resave-data TreeSummarizedExperiment StartedAt: 2025-02-17 23:02:12 -0500 (Mon, 17 Feb 2025) EndedAt: 2025-02-17 23:04:22 -0500 (Mon, 17 Feb 2025) EllapsedTime: 130.3 seconds RetCode: 0 Status: OK PackageFile: TreeSummarizedExperiment_2.14.0.tar.gz PackageFileSize: 1.104 <A href="http://en.wikipedia.org/wiki/MiB" target="_blank">MiB</A>