Package: TreeSummarizedExperiment Version: 2.14.0 Command: rm -rf TreeSummarizedExperiment.buildbin-libdir && mkdir TreeSummarizedExperiment.buildbin-libdir && F:\biocbuild\bbs-3.20-bioc\R\bin\R.exe CMD INSTALL --build --library=TreeSummarizedExperiment.buildbin-libdir TreeSummarizedExperiment_2.14.0.tar.gz StartedAt: 2025-02-04 09:43:06 -0500 (Tue, 04 Feb 2025) EndedAt: 2025-02-04 09:47:46 -0500 (Tue, 04 Feb 2025) EllapsedTime: 280.5 seconds RetCode: 0 Status: OK PackageFile: TreeSummarizedExperiment_2.14.0.zip PackageFileSize: 1.727 MiB