Package: TreeSummarizedExperiment Version: 2.14.0 Command: chmod a+r TreeSummarizedExperiment -R && F:\biocbuild\bbs-3.20-bioc\R\bin\R.exe CMD build --keep-empty-dirs --no-resave-data TreeSummarizedExperiment StartedAt: 2025-02-03 22:41:09 -0500 (Mon, 03 Feb 2025) EndedAt: 2025-02-03 22:42:36 -0500 (Mon, 03 Feb 2025) EllapsedTime: 87.3 seconds RetCode: 0 Status: OK PackageFile: TreeSummarizedExperiment_2.14.0.tar.gz PackageFileSize: 1011 KiB